BEGIN:VCALENDAR
VERSION:2.0
PRODID:-//Presbyterian Foundation - ECPv6.15.18//NONSGML v1.0//EN
CALSCALE:GREGORIAN
METHOD:PUBLISH
X-WR-CALNAME:Presbyterian Foundation
X-ORIGINAL-URL:https://www.presbyterianfoundation.org
X-WR-CALDESC:Events for Presbyterian Foundation
REFRESH-INTERVAL;VALUE=DURATION:PT1H
X-Robots-Tag:noindex
X-PUBLISHED-TTL:PT1H
BEGIN:VTIMEZONE
TZID:America/Indiana/Indianapolis
BEGIN:DAYLIGHT
TZOFFSETFROM:-0500
TZOFFSETTO:-0400
TZNAME:EDT
DTSTART:20250309T070000
END:DAYLIGHT
BEGIN:STANDARD
TZOFFSETFROM:-0400
TZOFFSETTO:-0500
TZNAME:EST
DTSTART:20251102T060000
END:STANDARD
BEGIN:DAYLIGHT
TZOFFSETFROM:-0500
TZOFFSETTO:-0400
TZNAME:EDT
DTSTART:20260308T070000
END:DAYLIGHT
BEGIN:STANDARD
TZOFFSETFROM:-0400
TZOFFSETTO:-0500
TZNAME:EST
DTSTART:20261101T060000
END:STANDARD
BEGIN:DAYLIGHT
TZOFFSETFROM:-0500
TZOFFSETTO:-0400
TZNAME:EDT
DTSTART:20270314T070000
END:DAYLIGHT
BEGIN:STANDARD
TZOFFSETFROM:-0400
TZOFFSETTO:-0500
TZNAME:EST
DTSTART:20271107T060000
END:STANDARD
END:VTIMEZONE
BEGIN:VEVENT
DTSTART;VALUE=DATE:20261118
DTEND;VALUE=DATE:20261121
DTSTAMP:20260422T075657
CREATED:20251204T203004Z
LAST-MODIFIED:20260205T174807Z
UID:10000028-1794960000-1795219199@www.presbyterianfoundation.org
SUMMARY:Mid Council Financial Conference
DESCRIPTION:Sponsored and organized by the Presbyterian Investment and Loan Program and the Presbyterian Foundation\, this gathering of presbytery and synod financial staff\, treasurers\, finance committee members\, and executives will be a time of learning from one another\, sharing our best practices\, and identifying emerging opportunities and challenges. \nMark your calendars to join us in Minneapolis\, Minnesota on November 18-20\, 2026!
URL:https://www.presbyterianfoundation.org/event/mid-council-financial-conference-3/
ATTACH;FMTTYPE=image/png:https://www.presbyterianfoundation.org/wp-content/uploads/2025/12/MCFC-2026.png
END:VEVENT
END:VCALENDAR